BEGIN:VCALENDAR
VERSION:2.0
PRODID:-//Sreesaividyapeedhom - ECPv5.2.1//NONSGML v1.0//EN
CALSCALE:GREGORIAN
METHOD:PUBLISH
X-WR-CALNAME:Sreesaividyapeedhom
X-ORIGINAL-URL:https://sreesaividyapeedhom.com
X-WR-CALDESC:Events for Sreesaividyapeedhom
BEGIN:VTIMEZONE
TZID:UTC
BEGIN:STANDARD
TZOFFSETFROM:+0000
TZOFFSETTO:+0000
TZNAME:UTC
DTSTART:20250101T000000
END:STANDARD
END:VTIMEZONE
BEGIN:VEVENT
DTSTART;VALUE=DATE:20251211
DTEND;VALUE=DATE:20251212
DTSTAMP:20260420T151138
CREATED:20260211T094711Z
LAST-MODIFIED:20260211T095234Z
UID:8591-1765411200-1765497599@sreesaividyapeedhom.com
SUMMARY:3rd International Short film Musical album documentary & Reels award 2025(5/2/26)
DESCRIPTION:
URL:https://sreesaividyapeedhom.com/event/3rd-international-short-film-musical-album-documentary-reels-award-20255-2-26/
ATTACH;FMTTYPE=image/jpeg:https://sreesaividyapeedhom.com/wp-content/uploads/2026/02/WhatsApp-Image-2026-02-11-at-2.48.26-PM.jpeg
END:VEVENT
END:VCALENDAR