BEGIN:VCALENDAR
VERSION:2.0
PRODID:-//Sreesaividyapeedhom - ECPv5.2.1//NONSGML v1.0//EN
CALSCALE:GREGORIAN
METHOD:PUBLISH
X-WR-CALNAME:Sreesaividyapeedhom
X-ORIGINAL-URL:https://sreesaividyapeedhom.com
X-WR-CALDESC:Events for Sreesaividyapeedhom
BEGIN:VTIMEZONE
TZID:UTC
BEGIN:STANDARD
TZOFFSETFROM:+0000
TZOFFSETTO:+0000
TZNAME:UTC
DTSTART:20250101T000000
END:STANDARD
END:VTIMEZONE
BEGIN:VEVENT
DTSTART;TZID=UTC:20250423T120903
DTEND;TZID=UTC:20250423T120903
DTSTAMP:20260420T163459
CREATED:20250423T120903Z
LAST-MODIFIED:20250423T120903Z
UID:8166-1745410143-1745410143@sreesaividyapeedhom.com
SUMMARY:Aroh 2025 Expo
DESCRIPTION:
URL:https://sreesaividyapeedhom.com/event/aroh-2025-expo/
ATTACH;FMTTYPE=image/jpeg:https://sreesaividyapeedhom.com/wp-content/uploads/2025/04/Aroh-2025-Expo-5.jpeg
END:VEVENT
END:VCALENDAR