BEGIN:VCALENDAR
VERSION:2.0
PRODID:-//Sreesaividyapeedhom - ECPv5.2.1//NONSGML v1.0//EN
CALSCALE:GREGORIAN
METHOD:PUBLISH
X-WR-CALNAME:Sreesaividyapeedhom
X-ORIGINAL-URL:https://sreesaividyapeedhom.com
X-WR-CALDESC:Events for Sreesaividyapeedhom
BEGIN:VTIMEZONE
TZID:UTC
BEGIN:STANDARD
TZOFFSETFROM:+0000
TZOFFSETTO:+0000
TZNAME:UTC
DTSTART:20260101T000000
END:STANDARD
END:VTIMEZONE
BEGIN:VEVENT
DTSTART;TZID=UTC:20260120T080000
DTEND;TZID=UTC:20260120T170000
DTSTAMP:20260420T101519
CREATED:20260130T083519Z
LAST-MODIFIED:20260130T083558Z
UID:8378-1768896000-1768928400@sreesaividyapeedhom.com
SUMMARY:Creative Genius  in FunXChamps state  level competition winner 20/01/26
DESCRIPTION:
URL:https://sreesaividyapeedhom.com/event/creative-genius-in-funxchamps-state-level-competition-winner-20-01-26/
ATTACH;FMTTYPE=image/jpeg:https://sreesaividyapeedhom.com/wp-content/uploads/2026/01/8.jpeg
END:VEVENT
END:VCALENDAR