BEGIN:VCALENDAR
VERSION:2.0
PRODID:-//Sreesaividyapeedhom - ECPv5.2.1//NONSGML v1.0//EN
CALSCALE:GREGORIAN
METHOD:PUBLISH
X-WR-CALNAME:Sreesaividyapeedhom
X-ORIGINAL-URL:https://sreesaividyapeedhom.com
X-WR-CALDESC:Events for Sreesaividyapeedhom
BEGIN:VTIMEZONE
TZID:UTC
BEGIN:STANDARD
TZOFFSETFROM:+0000
TZOFFSETTO:+0000
TZNAME:UTC
DTSTART:20250101T000000
END:STANDARD
END:VTIMEZONE
BEGIN:VEVENT
DTSTART;TZID=UTC:20251214T080000
DTEND;TZID=UTC:20251214T170000
DTSTAMP:20260420T145838
CREATED:20260130T093050Z
LAST-MODIFIED:20260130T093050Z
UID:8407-1765699200-1765731600@sreesaividyapeedhom.com
SUMMARY:FUNXCHAMP COMPETITION  ZONAL  LEVEL  held on14/12/25
DESCRIPTION:
URL:https://sreesaividyapeedhom.com/event/funxchamp-competition-zonal-level-held-on14-12-25/
ATTACH;FMTTYPE=image/jpeg:https://sreesaividyapeedhom.com/wp-content/uploads/2026/01/25.jpeg
END:VEVENT
END:VCALENDAR