BEGIN:VCALENDAR
VERSION:2.0
PRODID:-//Sreesaividyapeedhom - ECPv5.2.1//NONSGML v1.0//EN
CALSCALE:GREGORIAN
METHOD:PUBLISH
X-WR-CALNAME:Sreesaividyapeedhom
X-ORIGINAL-URL:https://sreesaividyapeedhom.com
X-WR-CALDESC:Events for Sreesaividyapeedhom
BEGIN:VTIMEZONE
TZID:UTC
BEGIN:STANDARD
TZOFFSETFROM:+0000
TZOFFSETTO:+0000
TZNAME:UTC
DTSTART:20250101T000000
END:STANDARD
END:VTIMEZONE
BEGIN:VEVENT
DTSTART;TZID=UTC:20250707T080000
DTEND;TZID=UTC:20250707T170000
DTSTAMP:20260420T162857
CREATED:20250830T104615Z
LAST-MODIFIED:20250830T105302Z
UID:8305-1751875200-1751907600@sreesaividyapeedhom.com
SUMMARY:Investiture Caremony
DESCRIPTION:
URL:https://sreesaividyapeedhom.com/event/investiture-caremony/
ATTACH;FMTTYPE=image/jpeg:https://sreesaividyapeedhom.com/wp-content/uploads/2025/08/772025.jpg
END:VEVENT
END:VCALENDAR