BEGIN:VCALENDAR
VERSION:2.0
PRODID:-//Sreesaividyapeedhom - ECPv5.2.1//NONSGML v1.0//EN
CALSCALE:GREGORIAN
METHOD:PUBLISH
X-WR-CALNAME:Sreesaividyapeedhom
X-ORIGINAL-URL:https://sreesaividyapeedhom.com
X-WR-CALDESC:Events for Sreesaividyapeedhom
BEGIN:VTIMEZONE
TZID:UTC
BEGIN:STANDARD
TZOFFSETFROM:+0000
TZOFFSETTO:+0000
TZNAME:UTC
DTSTART:20260101T000000
END:STANDARD
END:VTIMEZONE
BEGIN:VEVENT
DTSTART;TZID=UTC:20260217T080000
DTEND;TZID=UTC:20260217T170000
DTSTAMP:20260421T100856
CREATED:20260417T070910Z
LAST-MODIFIED:20260417T070910Z
UID:8705-1771315200-1771347600@sreesaividyapeedhom.com
SUMMARY:Kaushal Mela conducted on 17th February  2026
DESCRIPTION:
URL:https://sreesaividyapeedhom.com/event/kaushal-mela-conducted-on-17th-february-2026/
ATTACH;FMTTYPE=image/jpeg:https://sreesaividyapeedhom.com/wp-content/uploads/2026/04/WhatsApp-Image-2026-04-16-at-11.45.07-AM-1.jpeg
END:VEVENT
END:VCALENDAR