BEGIN:VCALENDAR
VERSION:2.0
PRODID:-//Sreesaividyapeedhom - ECPv5.2.1//NONSGML v1.0//EN
CALSCALE:GREGORIAN
METHOD:PUBLISH
X-WR-CALNAME:Sreesaividyapeedhom
X-ORIGINAL-URL:https://sreesaividyapeedhom.com
X-WR-CALDESC:Events for Sreesaividyapeedhom
BEGIN:VTIMEZONE
TZID:UTC
BEGIN:STANDARD
TZOFFSETFROM:+0000
TZOFFSETTO:+0000
TZNAME:UTC
DTSTART:20260101T000000
END:STANDARD
END:VTIMEZONE
BEGIN:VEVENT
DTSTART;TZID=UTC:20260208T080000
DTEND;TZID=UTC:20260208T170000
DTSTAMP:20260420T132751
CREATED:20260417T071130Z
LAST-MODIFIED:20260417T101022Z
UID:8712-1770537600-1770570000@sreesaividyapeedhom.com
SUMMARY:Logiqids Mental Aptitude Olympiad Winners (08/02/2026)
DESCRIPTION:
URL:https://sreesaividyapeedhom.com/event/logiqids-mental-aptitude-olympiad-winners-08-02-2026/
ATTACH;FMTTYPE=image/jpeg:https://sreesaividyapeedhom.com/wp-content/uploads/2026/04/Artboard-3.jpg-1-scaled.jpeg
END:VEVENT
END:VCALENDAR