BEGIN:VCALENDAR
VERSION:2.0
PRODID:-//Sreesaividyapeedhom - ECPv5.2.1//NONSGML v1.0//EN
CALSCALE:GREGORIAN
METHOD:PUBLISH
X-WR-CALNAME:Sreesaividyapeedhom
X-ORIGINAL-URL:https://sreesaividyapeedhom.com
X-WR-CALDESC:Events for Sreesaividyapeedhom
BEGIN:VTIMEZONE
TZID:UTC
BEGIN:STANDARD
TZOFFSETFROM:+0000
TZOFFSETTO:+0000
TZNAME:UTC
DTSTART:20250101T000000
END:STANDARD
END:VTIMEZONE
BEGIN:VEVENT
DTSTART;TZID=UTC:20250823T080000
DTEND;TZID=UTC:20250823T170000
DTSTAMP:20260420T162911
CREATED:20260211T091036Z
LAST-MODIFIED:20260211T093811Z
UID:8546-1755936000-1755968400@sreesaividyapeedhom.com
SUMMARY:MCQ Mastery session conducted on 23/8/25
DESCRIPTION:
URL:https://sreesaividyapeedhom.com/event/mcq-mastery-session-conducted-on-23-8-25/
ATTACH;FMTTYPE=image/jpeg:https://sreesaividyapeedhom.com/wp-content/uploads/2026/02/WhatsApp-Image-2026-02-11-at-2.45.13-PM.jpeg
END:VEVENT
END:VCALENDAR