BEGIN:VCALENDAR
VERSION:2.0
PRODID:-//Sreesaividyapeedhom - ECPv5.2.1//NONSGML v1.0//EN
CALSCALE:GREGORIAN
METHOD:PUBLISH
X-WR-CALNAME:Sreesaividyapeedhom
X-ORIGINAL-URL:https://sreesaividyapeedhom.com
X-WR-CALDESC:Events for Sreesaividyapeedhom
BEGIN:VTIMEZONE
TZID:UTC
BEGIN:STANDARD
TZOFFSETFROM:+0000
TZOFFSETTO:+0000
TZNAME:UTC
DTSTART:20250101T000000
END:STANDARD
END:VTIMEZONE
BEGIN:VEVENT
DTSTART;TZID=UTC:20251118T080000
DTEND;TZID=UTC:20251118T170000
DTSTAMP:20260420T150937
CREATED:20260211T093017Z
LAST-MODIFIED:20260211T093017Z
UID:8566-1763452800-1763485200@sreesaividyapeedhom.com
SUMMARY:Met’s Innovation Leadership & Met’s Teacher Excellence awards on 18/11/25
DESCRIPTION:
URL:https://sreesaividyapeedhom.com/event/mets-innovation-leadership-mets-teacher-excellence-awards-on-18-11-25/
ATTACH;FMTTYPE=image/jpeg:https://sreesaividyapeedhom.com/wp-content/uploads/2026/02/WhatsApp-Image-2026-02-11-at-2.32.09-PM.jpeg
END:VEVENT
END:VCALENDAR