BEGIN:VCALENDAR
VERSION:2.0
PRODID:-//Sreesaividyapeedhom - ECPv5.2.1//NONSGML v1.0//EN
CALSCALE:GREGORIAN
METHOD:PUBLISH
X-WR-CALNAME:Sreesaividyapeedhom
X-ORIGINAL-URL:https://sreesaividyapeedhom.com
X-WR-CALDESC:Events for Sreesaividyapeedhom
BEGIN:VTIMEZONE
TZID:UTC
BEGIN:STANDARD
TZOFFSETFROM:+0000
TZOFFSETTO:+0000
TZNAME:UTC
DTSTART:20250101T000000
END:STANDARD
END:VTIMEZONE
BEGIN:VEVENT
DTSTART;TZID=UTC:20250120T080000
DTEND;TZID=UTC:20250120T170000
DTSTAMP:20260420T163341
CREATED:20250120T070427Z
LAST-MODIFIED:20250120T070427Z
UID:8080-1737360000-1737392400@sreesaividyapeedhom.com
SUMMARY:Olympiad Winner
DESCRIPTION:
URL:https://sreesaividyapeedhom.com/event/olympiad-winner/
ATTACH;FMTTYPE=image/jpeg:https://sreesaividyapeedhom.com/wp-content/uploads/2025/01/Olymoad.jpeg
END:VEVENT
END:VCALENDAR