BEGIN:VCALENDAR
VERSION:2.0
PRODID:-//Sreesaividyapeedhom - ECPv5.2.1//NONSGML v1.0//EN
CALSCALE:GREGORIAN
METHOD:PUBLISH
X-WR-CALNAME:Sreesaividyapeedhom
X-ORIGINAL-URL:https://sreesaividyapeedhom.com
X-WR-CALDESC:Events for Sreesaividyapeedhom
BEGIN:VTIMEZONE
TZID:UTC
BEGIN:STANDARD
TZOFFSETFROM:+0000
TZOFFSETTO:+0000
TZNAME:UTC
DTSTART:20250101T000000
END:STANDARD
END:VTIMEZONE
BEGIN:VEVENT
DTSTART;TZID=UTC:20250331T080000
DTEND;TZID=UTC:20250331T170000
DTSTAMP:20260420T163233
CREATED:20250423T123516Z
LAST-MODIFIED:20250424T124327Z
UID:8185-1743408000-1743440400@sreesaividyapeedhom.com
SUMMARY:Personality Development Workshop
DESCRIPTION:A transformative Personality Development Workshop conducted on 31/03/25
URL:https://sreesaividyapeedhom.com/event/personality-development-workshop/
ATTACH;FMTTYPE=image/jpeg:https://sreesaividyapeedhom.com/wp-content/uploads/2025/04/Workshop.jpeg
END:VEVENT
END:VCALENDAR