BEGIN:VCALENDAR
VERSION:2.0
PRODID:-//Sreesaividyapeedhom - ECPv5.2.1//NONSGML v1.0//EN
CALSCALE:GREGORIAN
METHOD:PUBLISH
X-WR-CALNAME:Sreesaividyapeedhom
X-ORIGINAL-URL:https://sreesaividyapeedhom.com
X-WR-CALDESC:Events for Sreesaividyapeedhom
BEGIN:VTIMEZONE
TZID:UTC
BEGIN:STANDARD
TZOFFSETFROM:+0000
TZOFFSETTO:+0000
TZNAME:UTC
DTSTART:20230101T000000
END:STANDARD
END:VTIMEZONE
BEGIN:VEVENT
DTSTART;TZID=UTC:20230211T100000
DTEND;TZID=UTC:20230211T130000
DTSTAMP:20260420T180550
CREATED:20230210T104649Z
LAST-MODIFIED:20230210T104718Z
UID:7675-1676109600-1676120400@sreesaividyapeedhom.com
SUMMARY:Sarvaan - Exhibition
DESCRIPTION:
URL:https://sreesaividyapeedhom.com/event/sarvaan-exhibition/
END:VEVENT
END:VCALENDAR