BEGIN:VCALENDAR
VERSION:2.0
PRODID:-//Sreesaividyapeedhom - ECPv5.2.1//NONSGML v1.0//EN
CALSCALE:GREGORIAN
METHOD:PUBLISH
X-WR-CALNAME:Sreesaividyapeedhom
X-ORIGINAL-URL:https://sreesaividyapeedhom.com
X-WR-CALDESC:Events for Sreesaividyapeedhom
BEGIN:VTIMEZONE
TZID:UTC
BEGIN:STANDARD
TZOFFSETFROM:+0000
TZOFFSETTO:+0000
TZNAME:UTC
DTSTART:20250101T000000
END:STANDARD
END:VTIMEZONE
BEGIN:VEVENT
DTSTART;TZID=UTC:20251015T080000
DTEND;TZID=UTC:20251015T170000
DTSTAMP:20260420T150850
CREATED:20260211T094355Z
LAST-MODIFIED:20260211T094355Z
UID:8584-1760515200-1760547600@sreesaividyapeedhom.com
SUMMARY:South Indian Karate Championship 2025(15/10/25)
DESCRIPTION:
URL:https://sreesaividyapeedhom.com/event/south-indian-karate-championship-202515-10-25/
ATTACH;FMTTYPE=image/jpeg:https://sreesaividyapeedhom.com/wp-content/uploads/2026/02/WhatsApp-Image-2026-02-11-at-2.47.36-PM.jpeg
END:VEVENT
END:VCALENDAR