BEGIN:VCALENDAR
VERSION:2.0
PRODID:-//Sreesaividyapeedhom - ECPv5.2.1//NONSGML v1.0//EN
CALSCALE:GREGORIAN
METHOD:PUBLISH
X-WR-CALNAME:Sreesaividyapeedhom
X-ORIGINAL-URL:https://sreesaividyapeedhom.com
X-WR-CALDESC:Events for Sreesaividyapeedhom
BEGIN:VTIMEZONE
TZID:UTC
BEGIN:STANDARD
TZOFFSETFROM:+0000
TZOFFSETTO:+0000
TZNAME:UTC
DTSTART:20250101T000000
END:STANDARD
END:VTIMEZONE
BEGIN:VEVENT
DTSTART;TZID=UTC:20250802T080000
DTEND;TZID=UTC:20250802T170000
DTSTAMP:20260420T163146
CREATED:20260211T081414Z
LAST-MODIFIED:20260211T083851Z
UID:8497-1754121600-1754154000@sreesaividyapeedhom.com
SUMMARY:Sree Narayana guru Jayanti competition winners(2/8/25)
DESCRIPTION:
URL:https://sreesaividyapeedhom.com/event/sree-narayana-guru-jayanti-competition-winners2-8-25/
ATTACH;FMTTYPE=image/png:https://sreesaividyapeedhom.com/wp-content/uploads/2026/02/School.png
END:VEVENT
END:VCALENDAR