BEGIN:VCALENDAR
VERSION:2.0
PRODID:-//Sreesaividyapeedhom - ECPv5.2.1//NONSGML v1.0//EN
CALSCALE:GREGORIAN
METHOD:PUBLISH
X-WR-CALNAME:Sreesaividyapeedhom
X-ORIGINAL-URL:https://sreesaividyapeedhom.com
X-WR-CALDESC:Events for Sreesaividyapeedhom
BEGIN:VTIMEZONE
TZID:UTC
BEGIN:STANDARD
TZOFFSETFROM:+0000
TZOFFSETTO:+0000
TZNAME:UTC
DTSTART:20260101T000000
END:STANDARD
END:VTIMEZONE
BEGIN:VEVENT
DTSTART;TZID=UTC:20260113T080000
DTEND;TZID=UTC:20260113T170000
DTSTAMP:20260420T114603
CREATED:20260130T084438Z
LAST-MODIFIED:20260131T123906Z
UID:8382-1768291200-1768323600@sreesaividyapeedhom.com
SUMMARY:Annual Day was held on 18/12/25
DESCRIPTION:
URL:https://sreesaividyapeedhom.com/event/thrissur-central-sahodaya-maths-talent-hunt-examination-winner-13-01-26/
ATTACH;FMTTYPE=image/jpeg:https://sreesaividyapeedhom.com/wp-content/uploads/2026/01/15.jpeg
END:VEVENT
END:VCALENDAR