BEGIN:VCALENDAR
VERSION:2.0
PRODID:-//Sreesaividyapeedhom - ECPv5.2.1//NONSGML v1.0//EN
CALSCALE:GREGORIAN
METHOD:PUBLISH
X-WR-CALNAME:Sreesaividyapeedhom
X-ORIGINAL-URL:https://sreesaividyapeedhom.com
X-WR-CALDESC:Events for Sreesaividyapeedhom
BEGIN:VTIMEZONE
TZID:UTC
BEGIN:STANDARD
TZOFFSETFROM:+0000
TZOFFSETTO:+0000
TZNAME:UTC
DTSTART:20250101T000000
END:STANDARD
END:VTIMEZONE
BEGIN:VEVENT
DTSTART;TZID=UTC:20250802T080000
DTEND;TZID=UTC:20250809T170000
DTSTAMP:20260420T163137
CREATED:20250830T105616Z
LAST-MODIFIED:20250830T105648Z
UID:8316-1754121600-1754758800@sreesaividyapeedhom.com
SUMMARY:Thrissur central Sahodaya Teachers kalotsav
DESCRIPTION:
URL:https://sreesaividyapeedhom.com/event/thrissur-central-sahodaya-teachers-kalotsav/
ATTACH;FMTTYPE=image/jpeg:https://sreesaividyapeedhom.com/wp-content/uploads/2025/08/thrissur-central.jpg
END:VEVENT
END:VCALENDAR