BEGIN:VCALENDAR
VERSION:2.0
PRODID:-//Sreesaividyapeedhom - ECPv5.2.1//NONSGML v1.0//EN
CALSCALE:GREGORIAN
METHOD:PUBLISH
X-WR-CALNAME:Sreesaividyapeedhom
X-ORIGINAL-URL:https://sreesaividyapeedhom.com
X-WR-CALDESC:Events for Sreesaividyapeedhom
BEGIN:VTIMEZONE
TZID:UTC
BEGIN:STANDARD
TZOFFSETFROM:+0000
TZOFFSETTO:+0000
TZNAME:UTC
DTSTART:20260101T000000
END:STANDARD
END:VTIMEZONE
BEGIN:VEVENT
DTSTART;TZID=UTC:20260210T080000
DTEND;TZID=UTC:20260210T170000
DTSTAMP:20260420T132654
CREATED:20260417T081601Z
LAST-MODIFIED:20260417T100924Z
UID:8718-1770710400-1770742800@sreesaividyapeedhom.com
SUMMARY:Thrissur District  Keralotsav 2026(10/2/26)
DESCRIPTION:
URL:https://sreesaividyapeedhom.com/event/thrissur-district-keralotsav-202610-2-26/
ATTACH;FMTTYPE=image/jpeg:https://sreesaividyapeedhom.com/wp-content/uploads/2026/04/Artboard-1.jpg-4-scaled.jpeg
END:VEVENT
END:VCALENDAR