BEGIN:VCALENDAR
VERSION:2.0
PRODID:-//Sreesaividyapeedhom - ECPv5.2.1//NONSGML v1.0//EN
CALSCALE:GREGORIAN
METHOD:PUBLISH
X-WR-CALNAME:Sreesaividyapeedhom
X-ORIGINAL-URL:https://sreesaividyapeedhom.com
X-WR-CALDESC:Events for Sreesaividyapeedhom
BEGIN:VTIMEZONE
TZID:UTC
BEGIN:STANDARD
TZOFFSETFROM:+0000
TZOFFSETTO:+0000
TZNAME:UTC
DTSTART:20240101T000000
END:STANDARD
END:VTIMEZONE
BEGIN:VEVENT
DTSTART;TZID=UTC:20240807T080000
DTEND;TZID=UTC:20240807T170000
DTSTAMP:20260425T163324
CREATED:20240717T110029Z
LAST-MODIFIED:20240717T110541Z
UID:7914-1723017600-1723050000@sreesaividyapeedhom.com
SUMMARY:Investiture Ceremony were Conducted on 8/07/2024
DESCRIPTION:
URL:https://sreesaividyapeedhom.com/event/investiture-ceremony-were-conducted-on-8-07-2024/
ATTACH;FMTTYPE=image/jpeg:https://sreesaividyapeedhom.com/wp-content/uploads/2024/07/WhatsApp-Image-2024-07-17-at-14.31.28_8523fef3.jpg
END:VEVENT
END:VCALENDAR