BEGIN:VCALENDAR
VERSION:2.0
PRODID:-//Sreesaividyapeedhom - ECPv5.2.1//NONSGML v1.0//EN
CALSCALE:GREGORIAN
METHOD:PUBLISH
X-WR-CALNAME:Sreesaividyapeedhom
X-ORIGINAL-URL:https://sreesaividyapeedhom.com
X-WR-CALDESC:Events for Sreesaividyapeedhom
BEGIN:VTIMEZONE
TZID:UTC
BEGIN:STANDARD
TZOFFSETFROM:+0000
TZOFFSETTO:+0000
TZNAME:UTC
DTSTART:20240101T000000
END:STANDARD
END:VTIMEZONE
BEGIN:VEVENT
DTSTART;TZID=UTC:20241217T080000
DTEND;TZID=UTC:20241217T170000
DTSTAMP:20260425T110948
CREATED:20241211T144854Z
LAST-MODIFIED:20250120T063955Z
UID:8051-1734422400-1734454800@sreesaividyapeedhom.com
SUMMARY:Christmas celebration conducted on 17/12/24
DESCRIPTION:
URL:https://sreesaividyapeedhom.com/event/christmas-celebration-conducted-on-17-12-24/
ATTACH;FMTTYPE=image/jpeg:https://sreesaividyapeedhom.com/wp-content/uploads/2025/01/xmas24-e1737096727659.jpeg
END:VEVENT
BEGIN:VEVENT
DTSTART;TZID=UTC:20241221T080000
DTEND;TZID=UTC:20241221T170000
DTSTAMP:20260425T110948
CREATED:20250219T073024Z
LAST-MODIFIED:20250219T073115Z
UID:8093-1734768000-1734800400@sreesaividyapeedhom.com
SUMMARY:GLIMPSES OF GALORE '24-25
DESCRIPTION:
URL:https://sreesaividyapeedhom.com/event/glimpses-of-galore-24-25/
ATTACH;FMTTYPE=image/jpeg:https://sreesaividyapeedhom.com/wp-content/uploads/2025/02/GLIMPSES-OF-GALORE-24-25-11.jpeg
END:VEVENT
END:VCALENDAR