BEGIN:VCALENDAR
VERSION:2.0
PRODID:-//Sreesaividyapeedhom - ECPv5.2.1//NONSGML v1.0//EN
CALSCALE:GREGORIAN
METHOD:PUBLISH
X-WR-CALNAME:Sreesaividyapeedhom
X-ORIGINAL-URL:https://sreesaividyapeedhom.com
X-WR-CALDESC:Events for Sreesaividyapeedhom
BEGIN:VTIMEZONE
TZID:UTC
BEGIN:STANDARD
TZOFFSETFROM:+0000
TZOFFSETTO:+0000
TZNAME:UTC
DTSTART:20250101T000000
END:STANDARD
END:VTIMEZONE
BEGIN:VEVENT
DTSTART;TZID=UTC:20251028T080000
DTEND;TZID=UTC:20251028T170000
DTSTAMP:20260420T194312
CREATED:20260211T090618Z
LAST-MODIFIED:20260211T091516Z
UID:8542-1761638400-1761670800@sreesaividyapeedhom.com
SUMMARY:Funmiyo School wise Topper students & Top schools (28/10/25)
DESCRIPTION:
URL:https://sreesaividyapeedhom.com/event/funmiyo-school-wise-topper-students-top-schools-28-10-25/
ATTACH;FMTTYPE=image/jpeg:https://sreesaividyapeedhom.com/wp-content/uploads/2026/02/WhatsApp-Image-2026-02-11-at-2.43.36-PM.jpeg
END:VEVENT
BEGIN:VEVENT
DTSTART;TZID=UTC:20251030T080000
DTEND;TZID=UTC:20251101T170000
DTSTAMP:20260420T194312
CREATED:20260131T124058Z
LAST-MODIFIED:20260211T090643Z
UID:8421-1761811200-1762016400@sreesaividyapeedhom.com
SUMMARY:Thrissur Central Sahodaya  Kalotsav conducted on 30/10/25\,31/10/25 &1/11/25
DESCRIPTION:
URL:https://sreesaividyapeedhom.com/event/thrissur-central-sahodaya-maths-talent-hunt-examination-winner-13-01-26-2/
ATTACH;FMTTYPE=image/jpeg:https://sreesaividyapeedhom.com/wp-content/uploads/2026/01/WhatsApp-Image-2026-02-06-at-5.56.16-PM-1.jpeg
END:VEVENT
BEGIN:VEVENT
DTSTART;VALUE=DATE:20251112
DTEND;VALUE=DATE:20251113
DTSTAMP:20260420T194312
CREATED:20260211T093653Z
LAST-MODIFIED:20260211T095431Z
UID:8575-1762905600-1762991999@sreesaividyapeedhom.com
SUMMARY:CBSE state Kalotsav conducted on 12/11/25 to 15/11/25
DESCRIPTION:
URL:https://sreesaividyapeedhom.com/event/cbse-state-kalotsav-conducted-on-12-11-25-to-15-11-25/
ATTACH;FMTTYPE=image/jpeg:https://sreesaividyapeedhom.com/wp-content/uploads/2026/02/WhatsApp-Image-2026-02-11-at-2.40.28-PM.jpeg
END:VEVENT
BEGIN:VEVENT
DTSTART;TZID=UTC:20251118T080000
DTEND;TZID=UTC:20251118T170000
DTSTAMP:20260420T194312
CREATED:20260211T093017Z
LAST-MODIFIED:20260211T093017Z
UID:8566-1763452800-1763485200@sreesaividyapeedhom.com
SUMMARY:Met’s Innovation Leadership & Met’s Teacher Excellence awards on 18/11/25
DESCRIPTION:
URL:https://sreesaividyapeedhom.com/event/mets-innovation-leadership-mets-teacher-excellence-awards-on-18-11-25/
ATTACH;FMTTYPE=image/jpeg:https://sreesaividyapeedhom.com/wp-content/uploads/2026/02/WhatsApp-Image-2026-02-11-at-2.32.09-PM.jpeg
END:VEVENT
BEGIN:VEVENT
DTSTART;TZID=UTC:20251122T080000
DTEND;TZID=UTC:20251122T170000
DTSTAMP:20260420T194312
CREATED:20260211T093458Z
LAST-MODIFIED:20260211T093458Z
UID:8571-1763798400-1763830800@sreesaividyapeedhom.com
SUMMARY:Thrissur Central Sahodaya Kho Kho 3rd prize  Winner (22/11/25)
DESCRIPTION:
URL:https://sreesaividyapeedhom.com/event/thrissur-central-sahodaya-kho-kho-3rd-prize-winner-22-11-25/
ATTACH;FMTTYPE=image/jpeg:https://sreesaividyapeedhom.com/wp-content/uploads/2026/02/WhatsApp-Image-2026-02-06-at-5.39.23-PM.jpeg
END:VEVENT
END:VCALENDAR