BEGIN:VCALENDAR
VERSION:2.0
PRODID:-//Sreesaividyapeedhom - ECPv5.2.1//NONSGML v1.0//EN
CALSCALE:GREGORIAN
METHOD:PUBLISH
X-WR-CALNAME:Sreesaividyapeedhom
X-ORIGINAL-URL:https://sreesaividyapeedhom.com
X-WR-CALDESC:Events for Sreesaividyapeedhom
BEGIN:VTIMEZONE
TZID:UTC
BEGIN:STANDARD
TZOFFSETFROM:+0000
TZOFFSETTO:+0000
TZNAME:UTC
DTSTART:20260101T000000
END:STANDARD
END:VTIMEZONE
BEGIN:VEVENT
DTSTART;TZID=UTC:20260113T080000
DTEND;TZID=UTC:20260113T170000
DTSTAMP:20260420T162740
CREATED:20260130T084438Z
LAST-MODIFIED:20260131T123906Z
UID:8382-1768291200-1768323600@sreesaividyapeedhom.com
SUMMARY:Annual Day was held on 18/12/25
DESCRIPTION:
URL:https://sreesaividyapeedhom.com/event/thrissur-central-sahodaya-maths-talent-hunt-examination-winner-13-01-26/
ATTACH;FMTTYPE=image/jpeg:https://sreesaividyapeedhom.com/wp-content/uploads/2026/01/15.jpeg
END:VEVENT
BEGIN:VEVENT
DTSTART;TZID=UTC:20260120T080000
DTEND;TZID=UTC:20260120T170000
DTSTAMP:20260420T162740
CREATED:20260130T083519Z
LAST-MODIFIED:20260130T083558Z
UID:8378-1768896000-1768928400@sreesaividyapeedhom.com
SUMMARY:Creative Genius  in FunXChamps state  level competition winner 20/01/26
DESCRIPTION:
URL:https://sreesaividyapeedhom.com/event/creative-genius-in-funxchamps-state-level-competition-winner-20-01-26/
ATTACH;FMTTYPE=image/jpeg:https://sreesaividyapeedhom.com/wp-content/uploads/2026/01/8.jpeg
END:VEVENT
BEGIN:VEVENT
DTSTART;TZID=UTC:20260121T080000
DTEND;TZID=UTC:20260121T170000
DTSTAMP:20260420T162740
CREATED:20260130T083050Z
LAST-MODIFIED:20260130T083050Z
UID:8373-1768982400-1769014800@sreesaividyapeedhom.com
SUMMARY:Thrissur Central  Sahodaya Karate   Championship  conducted  on 21/1/26
DESCRIPTION:
URL:https://sreesaividyapeedhom.com/event/thrissur-central-sahodaya-karate-championship-conducted-on-21-1-26/
ATTACH;FMTTYPE=image/jpeg:https://sreesaividyapeedhom.com/wp-content/uploads/2026/01/5.jpeg
END:VEVENT
BEGIN:VEVENT
DTSTART;TZID=UTC:20260124T080000
DTEND;TZID=UTC:20260124T170000
DTSTAMP:20260420T162740
CREATED:20260130T072139Z
LAST-MODIFIED:20260130T072139Z
UID:8369-1769241600-1769274000@sreesaividyapeedhom.com
SUMMARY:Kids fest conducted on 24/01/26
DESCRIPTION:
URL:https://sreesaividyapeedhom.com/event/kids-fest-conducted-on-24-01-26/
ATTACH;FMTTYPE=image/jpeg:https://sreesaividyapeedhom.com/wp-content/uploads/2026/01/3.jpeg
END:VEVENT
BEGIN:VEVENT
DTSTART;TZID=UTC:20260126T080000
DTEND;TZID=UTC:20260126T170000
DTSTAMP:20260420T162740
CREATED:20260130T071555Z
LAST-MODIFIED:20260130T071555Z
UID:8365-1769414400-1769446800@sreesaividyapeedhom.com
SUMMARY:Republic day Celebration conducted on 26/01/26
DESCRIPTION:
URL:https://sreesaividyapeedhom.com/event/republic-day-celebration-conducted-on-26-01-26/
ATTACH;FMTTYPE=image/jpeg:https://sreesaividyapeedhom.com/wp-content/uploads/2026/01/1.jpeg
END:VEVENT
BEGIN:VEVENT
DTSTART;TZID=UTC:20260126T080000
DTEND;TZID=UTC:20260126T170000
DTSTAMP:20260420T162740
CREATED:20260417T081639Z
LAST-MODIFIED:20260417T102720Z
UID:8721-1769414400-1769446800@sreesaividyapeedhom.com
SUMMARY:Science talent search Research type project Award (26/1/26)
DESCRIPTION:
URL:https://sreesaividyapeedhom.com/event/science-talent-search-research-type-project-award-26-1-26/
ATTACH;FMTTYPE=image/jpeg:https://sreesaividyapeedhom.com/wp-content/uploads/2026/04/Artboard-3-copy.jpg-scaled.jpeg
END:VEVENT
END:VCALENDAR