BEGIN:VCALENDAR
VERSION:2.0
PRODID:-//Sreesaividyapeedhom - ECPv5.2.1//NONSGML v1.0//EN
CALSCALE:GREGORIAN
METHOD:PUBLISH
X-WR-CALNAME:Sreesaividyapeedhom
X-ORIGINAL-URL:https://sreesaividyapeedhom.com
X-WR-CALDESC:Events for Sreesaividyapeedhom
BEGIN:VTIMEZONE
TZID:UTC
BEGIN:STANDARD
TZOFFSETFROM:+0000
TZOFFSETTO:+0000
TZNAME:UTC
DTSTART:20260101T000000
END:STANDARD
END:VTIMEZONE
BEGIN:VEVENT
DTSTART;TZID=UTC:20260330T080000
DTEND;TZID=UTC:20260330T170000
DTSTAMP:20260420T114142
CREATED:20260417T065902Z
LAST-MODIFIED:20260417T070331Z
UID:8698-1774857600-1774890000@sreesaividyapeedhom.com
SUMMARY:Class XII Convection Ceremony conducted on 30/03/26
DESCRIPTION:
URL:https://sreesaividyapeedhom.com/event/class-xii-convection-ceremony-conducted-on-30-03-26/
ATTACH;FMTTYPE=image/jpeg:https://sreesaividyapeedhom.com/wp-content/uploads/2026/04/WhatsApp-Image-2026-04-16-at-11.36.59-AM.jpeg
END:VEVENT
BEGIN:VEVENT
DTSTART;TZID=UTC:20260415T080000
DTEND;TZID=UTC:20260415T170000
DTSTAMP:20260420T114142
CREATED:20260417T082143Z
LAST-MODIFIED:20260417T100542Z
UID:8724-1776240000-1776272400@sreesaividyapeedhom.com
SUMMARY:Class X  Results (15/4/26)
DESCRIPTION:
URL:https://sreesaividyapeedhom.com/event/class-x-results-15-4-26/
ATTACH;FMTTYPE=image/jpeg:https://sreesaividyapeedhom.com/wp-content/uploads/2026/04/WhatsApp-Image-2026-04-17-at-3.28.17-PM-1.jpeg
END:VEVENT
END:VCALENDAR